BEGIN:VCALENDAR
VERSION:2.0
PRODID:-//Planet Puberty - ECPv6.15.20//NONSGML v1.0//EN
CALSCALE:GREGORIAN
METHOD:PUBLISH
X-ORIGINAL-URL:https://www.planetpuberty.org.au
X-WR-CALDESC:Events for Planet Puberty
REFRESH-INTERVAL;VALUE=DURATION:PT1H
X-Robots-Tag:noindex
X-PUBLISHED-TTL:PT1H
BEGIN:VTIMEZONE
TZID:Australia/Sydney
BEGIN:STANDARD
TZOFFSETFROM:+1100
TZOFFSETTO:+1000
TZNAME:AEST
DTSTART:20200404T160000
END:STANDARD
BEGIN:DAYLIGHT
TZOFFSETFROM:+1000
TZOFFSETTO:+1100
TZNAME:AEDT
DTSTART:20201003T160000
END:DAYLIGHT
BEGIN:STANDARD
TZOFFSETFROM:+1100
TZOFFSETTO:+1000
TZNAME:AEST
DTSTART:20210403T160000
END:STANDARD
BEGIN:DAYLIGHT
TZOFFSETFROM:+1000
TZOFFSETTO:+1100
TZNAME:AEDT
DTSTART:20211002T160000
END:DAYLIGHT
BEGIN:STANDARD
TZOFFSETFROM:+1100
TZOFFSETTO:+1000
TZNAME:AEST
DTSTART:20220402T160000
END:STANDARD
BEGIN:DAYLIGHT
TZOFFSETFROM:+1000
TZOFFSETTO:+1100
TZNAME:AEDT
DTSTART:20221001T160000
END:DAYLIGHT
END:VTIMEZONE
BEGIN:VEVENT
DTSTART;TZID=Australia/Sydney:20210616T120000
DTEND;TZID=Australia/Sydney:20210616T120000
DTSTAMP:20260422T023254
CREATED:20210209T033406Z
LAST-MODIFIED:20210428T003801Z
UID:2089-1623844800-1623844800@www.planetpuberty.org.au
SUMMARY:Masturbation: it’s a touchy subject
DESCRIPTION:Time: \n\n12pm Australian Eastern Standard Time (AEST)\n11:30am Australian Central Standard Time (ACST)\n10am Australian Western Standard Time (AWST)\n\nMasturbation is a normal part of growing up\, but sometimes it can be hard to talk about with your children. For parents and carers of children with disability there may also be concerns about their child learning about privacy and masturbation. Join us as we discuss how to talk to your child about masturbation\, what is normal\, teaching private behaviours and using pornography. \nWho is this webinar for? Parents and carers of children with intellectual disability and autism. This webinar is not suitable for children to attend. \nCost: Free! \nRegister here: https://fpnsw.wufoo.com/forms/pwlctxi0zh8dmv/
URL:https://www.planetpuberty.org.au/workshop/masturbation-its-a-touchy-subject-2/
LOCATION:Zoom App – Virtual Meeting\, Australia
CATEGORIES:Webinar
ATTACH;FMTTYPE=image/jpeg:https://www.planetpuberty.org.au/wp-content/uploads/2021/02/Plannet-Puberty-600x600px3.jpg
END:VEVENT
END:VCALENDAR