BEGIN:VCALENDAR
VERSION:2.0
PRODID:-//Planet Puberty - ECPv6.15.20//NONSGML v1.0//EN
CALSCALE:GREGORIAN
METHOD:PUBLISH
X-ORIGINAL-URL:https://www.planetpuberty.org.au
X-WR-CALDESC:Events for Planet Puberty
REFRESH-INTERVAL;VALUE=DURATION:PT1H
X-Robots-Tag:noindex
X-PUBLISHED-TTL:PT1H
BEGIN:VTIMEZONE
TZID:Australia/Sydney
BEGIN:STANDARD
TZOFFSETFROM:+1100
TZOFFSETTO:+1000
TZNAME:AEST
DTSTART:20200404T160000
END:STANDARD
BEGIN:DAYLIGHT
TZOFFSETFROM:+1000
TZOFFSETTO:+1100
TZNAME:AEDT
DTSTART:20201003T160000
END:DAYLIGHT
BEGIN:STANDARD
TZOFFSETFROM:+1100
TZOFFSETTO:+1000
TZNAME:AEST
DTSTART:20210403T160000
END:STANDARD
BEGIN:DAYLIGHT
TZOFFSETFROM:+1000
TZOFFSETTO:+1100
TZNAME:AEDT
DTSTART:20211002T160000
END:DAYLIGHT
BEGIN:STANDARD
TZOFFSETFROM:+1100
TZOFFSETTO:+1000
TZNAME:AEST
DTSTART:20220402T160000
END:STANDARD
BEGIN:DAYLIGHT
TZOFFSETFROM:+1000
TZOFFSETTO:+1100
TZNAME:AEDT
DTSTART:20221001T160000
END:DAYLIGHT
END:VTIMEZONE
BEGIN:VEVENT
DTSTART;TZID=Australia/Sydney:20210602T120000
DTEND;TZID=Australia/Sydney:20210602T120000
DTSTAMP:20260422T010427
CREATED:20210204T031139Z
LAST-MODIFIED:20210422T065011Z
UID:1805-1622635200-1622635200@www.planetpuberty.org.au
SUMMARY:Hygiene: It all comes out in the wash
DESCRIPTION:Time: \n\n12pm Australian Eastern Standard Time (AEST)\n11:30am Australian Central Standard Time (ACST)\n10am Australian Western Standard Time (AWST)\n\nChanges to your child’s body during puberty means they will need to include new activities in their personal care and hygiene routines. Join us as we discuss tips and strategies for supporting your child to learn about new hygiene activities like using deodorant\, washing their penis/vulva\, showering regularly and shaving facial hair. \nWho is this webinar for? Parents and carers of children with intellectual disability and autism. This webinar is not suitable for children to attend. \nCost: Free! \nRegister here: https://fpnsw.wufoo.com/forms/pub5eae0bk22e3/
URL:https://www.planetpuberty.org.au/workshop/hygiene-it-all-comes-out-in-the-wash/
LOCATION:Zoom App – Virtual Meeting\, Australia
CATEGORIES:Webinar
ATTACH;FMTTYPE=image/jpeg:https://www.planetpuberty.org.au/wp-content/uploads/2021/02/Plannet-Puberty-600x600px.jpg
END:VEVENT
BEGIN:VEVENT
DTSTART;TZID=Australia/Sydney:20210616T120000
DTEND;TZID=Australia/Sydney:20210616T120000
DTSTAMP:20260422T010427
CREATED:20210209T033406Z
LAST-MODIFIED:20210428T003801Z
UID:2089-1623844800-1623844800@www.planetpuberty.org.au
SUMMARY:Masturbation: it’s a touchy subject
DESCRIPTION:Time: \n\n12pm Australian Eastern Standard Time (AEST)\n11:30am Australian Central Standard Time (ACST)\n10am Australian Western Standard Time (AWST)\n\nMasturbation is a normal part of growing up\, but sometimes it can be hard to talk about with your children. For parents and carers of children with disability there may also be concerns about their child learning about privacy and masturbation. Join us as we discuss how to talk to your child about masturbation\, what is normal\, teaching private behaviours and using pornography. \nWho is this webinar for? Parents and carers of children with intellectual disability and autism. This webinar is not suitable for children to attend. \nCost: Free! \nRegister here: https://fpnsw.wufoo.com/forms/pwlctxi0zh8dmv/
URL:https://www.planetpuberty.org.au/workshop/masturbation-its-a-touchy-subject-2/
LOCATION:Zoom App – Virtual Meeting\, Australia
CATEGORIES:Webinar
ATTACH;FMTTYPE=image/jpeg:https://www.planetpuberty.org.au/wp-content/uploads/2021/02/Plannet-Puberty-600x600px3.jpg
END:VEVENT
BEGIN:VEVENT
DTSTART;TZID=Australia/Sydney:20210630T120000
DTEND;TZID=Australia/Sydney:20210630T120000
DTSTAMP:20260422T010427
CREATED:20210422T062831Z
LAST-MODIFIED:20210422T062831Z
UID:8347-1625054400-1625054400@www.planetpuberty.org.au
SUMMARY:Emotional changes: riding the rollercoaster
DESCRIPTION:Time: \n\n12pm Australian Eastern Standard Time (AEST)\n11:30am Australian Central Standard Time (ACST)\n10am Australian Western Standard Time (AWST)\n\nIt may seem like the teenage years and moodiness go hand-in-hand. When children start puberty\, changes to hormones\, relationships\, identity and their body can cause their moods to be more changeable. Special guest speaker psychologist Zoe Semmler from Family Planning NSW sexuality and disability service will join the webinar. We discuss hormones\, strategies for dealing with mood changes and outbursts\, and talking to your child about sexy feelings \nWho is this webinar for? Parents and carers of children with intellectual disability and autism. This webinar is not suitable for children to attend. \nCost: Free! \nRegister here: https://fpnsw.wufoo.com/forms/pri9u0c001mzbt/
URL:https://www.planetpuberty.org.au/workshop/emotional-changes-riding-the-rollercoaster/
LOCATION:Zoom App – Virtual Meeting\, Australia
CATEGORIES:Webinar
ATTACH;FMTTYPE=image/jpeg:https://www.planetpuberty.org.au/wp-content/uploads/2021/02/Plannet-Puberty-600x600px2-e1691720704342.jpg
END:VEVENT
END:VCALENDAR