BEGIN:VCALENDAR
VERSION:2.0
PRODID:-//Planet Puberty - ECPv6.15.20//NONSGML v1.0//EN
CALSCALE:GREGORIAN
METHOD:PUBLISH
X-ORIGINAL-URL:https://www.planetpuberty.org.au
X-WR-CALDESC:Events for Planet Puberty
REFRESH-INTERVAL;VALUE=DURATION:PT1H
X-Robots-Tag:noindex
X-PUBLISHED-TTL:PT1H
BEGIN:VTIMEZONE
TZID:Australia/Sydney
BEGIN:STANDARD
TZOFFSETFROM:+1100
TZOFFSETTO:+1000
TZNAME:AEST
DTSTART:20200404T160000
END:STANDARD
BEGIN:DAYLIGHT
TZOFFSETFROM:+1000
TZOFFSETTO:+1100
TZNAME:AEDT
DTSTART:20201003T160000
END:DAYLIGHT
BEGIN:STANDARD
TZOFFSETFROM:+1100
TZOFFSETTO:+1000
TZNAME:AEST
DTSTART:20210403T160000
END:STANDARD
BEGIN:DAYLIGHT
TZOFFSETFROM:+1000
TZOFFSETTO:+1100
TZNAME:AEDT
DTSTART:20211002T160000
END:DAYLIGHT
BEGIN:STANDARD
TZOFFSETFROM:+1100
TZOFFSETTO:+1000
TZNAME:AEST
DTSTART:20220402T160000
END:STANDARD
BEGIN:DAYLIGHT
TZOFFSETFROM:+1000
TZOFFSETTO:+1100
TZNAME:AEDT
DTSTART:20221001T160000
END:DAYLIGHT
END:VTIMEZONE
BEGIN:VEVENT
DTSTART;TZID=Australia/Sydney:20210908T183000
DTEND;TZID=Australia/Sydney:20210908T183000
DTSTAMP:20260421T203102
CREATED:20210422T070233Z
LAST-MODIFIED:20210422T070425Z
UID:8365-1631125800-1631125800@www.planetpuberty.org.au
SUMMARY:Emotional changes: riding the rollercoaster
DESCRIPTION:Time: \n\n6:30pm Australian Eastern Standard Time (AEST)\n6:00pm Australian Central Standard Time (ACST)\n4:30pm Australian Western Standard Time (AWST)\n\nIt may seem like the teenage years and moodiness go hand-in-hand. When children start puberty\, changes to hormones\, relationships\, identity and their body can cause their moods to be more changeable. Special guest speaker psychologist Zoe Semmler from Family Planning NSW sexuality and disability service will join the webinar. We discuss hormones\, strategies for dealing with mood changes and outbursts\, and talking to your child about sexy feelings \nWho is this webinar for? Parents and carers of children with intellectual disability and autism. This webinar is not suitable for children to attend. \nCost: Free! \nRegister here: https://fpnsw.wufoo.com/forms/pri9u0c001mzbt/
URL:https://www.planetpuberty.org.au/workshop/emotional-changes-riding-the-rollercoaster-2/
LOCATION:Zoom App – Virtual Meeting\, Australia
CATEGORIES:Webinar
ATTACH;FMTTYPE=image/jpeg:https://www.planetpuberty.org.au/wp-content/uploads/2021/02/Plannet-Puberty-600x600px2-e1691720704342.jpg
END:VEVENT
BEGIN:VEVENT
DTSTART;TZID=Australia/Sydney:20210922T180000
DTEND;TZID=Australia/Sydney:20210922T180000
DTSTAMP:20260421T203102
CREATED:20210422T070735Z
LAST-MODIFIED:20210428T101823Z
UID:8369-1632333600-1632333600@www.planetpuberty.org.au
SUMMARY:Periods: going with the flow
DESCRIPTION:Time: \n\n12pm Australian Eastern Standard Time (AEST)\n11:30am Australian Central Standard Time (ACST)\n10am Australian Western Standard Time (AWST)\n\nPreparing a child for their period can be a challenging time for a lot of parents of children with disability. Join us we discuss tips and strategies for preparing your child for periods\, strategies for helping your child to manage their period and seeking support from your doctor. \nSpecial guest Family Planning NSW Associate Medical Director Doctor Clare Boerma will join the webinar to discuss what a normal period is and when to talk to a doctor about period management. \nWho is this webinar for? Parents and carers of children with intellectual disability and autism. This webinar is not suitable for children to attend. \nCost: Free! \nRegister here: https://fpnsw.wufoo.com/forms/pqmwje70axlviy/
URL:https://www.planetpuberty.org.au/workshop/periods-going-with-the-flow-2/
LOCATION:Zoom App – Virtual Meeting\, Australia
CATEGORIES:Webinar
ATTACH;FMTTYPE=image/jpeg:https://www.planetpuberty.org.au/wp-content/uploads/2021/02/Plannet-Puberty-600x600px4.jpg
END:VEVENT
END:VCALENDAR